BEGIN:VCALENDAR
VERSION:2.0
PRODID:-//McAllister House Museum - ECPv6.15.20//NONSGML v1.0//EN
CALSCALE:GREGORIAN
METHOD:PUBLISH
X-WR-CALNAME:McAllister House Museum
X-ORIGINAL-URL:https://www.mcallisterhouse.org
X-WR-CALDESC:Events for McAllister House Museum
REFRESH-INTERVAL;VALUE=DURATION:PT1H
X-Robots-Tag:noindex
X-PUBLISHED-TTL:PT1H
BEGIN:VTIMEZONE
TZID:America/Denver
BEGIN:DAYLIGHT
TZOFFSETFROM:-0700
TZOFFSETTO:-0600
TZNAME:MDT
DTSTART:20230312T090000
END:DAYLIGHT
BEGIN:STANDARD
TZOFFSETFROM:-0600
TZOFFSETTO:-0700
TZNAME:MST
DTSTART:20231105T080000
END:STANDARD
BEGIN:DAYLIGHT
TZOFFSETFROM:-0700
TZOFFSETTO:-0600
TZNAME:MDT
DTSTART:20240310T090000
END:DAYLIGHT
BEGIN:STANDARD
TZOFFSETFROM:-0600
TZOFFSETTO:-0700
TZNAME:MST
DTSTART:20241103T080000
END:STANDARD
BEGIN:DAYLIGHT
TZOFFSETFROM:-0700
TZOFFSETTO:-0600
TZNAME:MDT
DTSTART:20250309T090000
END:DAYLIGHT
BEGIN:STANDARD
TZOFFSETFROM:-0600
TZOFFSETTO:-0700
TZNAME:MST
DTSTART:20251102T080000
END:STANDARD
END:VTIMEZONE
BEGIN:VEVENT
DTSTART;TZID=America/Denver:20240511T110000
DTEND;TZID=America/Denver:20240511T123000
DTSTAMP:20260424T055554
CREATED:20230525T214818Z
LAST-MODIFIED:20230525T215147Z
UID:1722-1715425200-1715430600@www.mcallisterhouse.org
SUMMARY:Mother's Day Tea 11am
DESCRIPTION:Historic McAllister House Museum invites you to enjoy an Afternoon Cream Tea of scones\, finger sandwiches and pastries. Following the tea\, guests will experience an intimate tour of the oldest house in Colorado Springs. \n$45 per person \nReservation required
URL:https://www.mcallisterhouse.org/event/mothers-day-tea-11am/
LOCATION:McAllister House Museum\, 423 N Cascade Avenue\, Colorado Springs\, 80903\, United States
END:VEVENT
BEGIN:VEVENT
DTSTART;TZID=America/Denver:20240511T140000
DTEND;TZID=America/Denver:20240511T153000
DTSTAMP:20260424T055554
CREATED:20230525T215130Z
LAST-MODIFIED:20230525T215130Z
UID:1725-1715436000-1715441400@www.mcallisterhouse.org
SUMMARY:Mother's Day Tea 2pm
DESCRIPTION:Historic McAllister House Museum invites you to enjoy an Afternoon Cream Tea of scones\, finger sandwiches and pastries. Following the tea\, guests will experience an intimate tour of the oldest house in Colorado Springs. \n$45 per person \nReservation required
URL:https://www.mcallisterhouse.org/event/mothers-day-tea-2pm/
LOCATION:McAllister House Museum\, 423 N Cascade Avenue\, Colorado Springs\, 80903\, United States
END:VEVENT
END:VCALENDAR