BEGIN:VCALENDAR
VERSION:2.0
PRODID:-//McAllister House Museum - ECPv6.15.20//NONSGML v1.0//EN
CALSCALE:GREGORIAN
METHOD:PUBLISH
X-WR-CALNAME:McAllister House Museum
X-ORIGINAL-URL:https://www.mcallisterhouse.org
X-WR-CALDESC:Events for McAllister House Museum
REFRESH-INTERVAL;VALUE=DURATION:PT1H
X-Robots-Tag:noindex
X-PUBLISHED-TTL:PT1H
BEGIN:VTIMEZONE
TZID:America/Denver
BEGIN:DAYLIGHT
TZOFFSETFROM:-0700
TZOFFSETTO:-0600
TZNAME:MDT
DTSTART:20220313T090000
END:DAYLIGHT
BEGIN:STANDARD
TZOFFSETFROM:-0600
TZOFFSETTO:-0700
TZNAME:MST
DTSTART:20221106T080000
END:STANDARD
BEGIN:DAYLIGHT
TZOFFSETFROM:-0700
TZOFFSETTO:-0600
TZNAME:MDT
DTSTART:20230312T090000
END:DAYLIGHT
BEGIN:STANDARD
TZOFFSETFROM:-0600
TZOFFSETTO:-0700
TZNAME:MST
DTSTART:20231105T080000
END:STANDARD
BEGIN:DAYLIGHT
TZOFFSETFROM:-0700
TZOFFSETTO:-0600
TZNAME:MDT
DTSTART:20240310T090000
END:DAYLIGHT
BEGIN:STANDARD
TZOFFSETFROM:-0600
TZOFFSETTO:-0700
TZNAME:MST
DTSTART:20241103T080000
END:STANDARD
END:VTIMEZONE
BEGIN:VEVENT
DTSTART;VALUE=DATE:20230923
DTEND;VALUE=DATE:20230924
DTSTAMP:20260425T084032
CREATED:20230901T205318Z
LAST-MODIFIED:20230901T205601Z
UID:1989-1695427200-1695513599@www.mcallisterhouse.org
SUMMARY:Harvest Festival
DESCRIPTION:[vc_row][vc_column width=”1/2″][vc_column_text]Join us for a spectacular and free event: Harvest Festival! \nEmbrace the beauty of autumn at our enchanting harvest festival\, where the golden hues of the season come alive!\nGet ready for a day filled with joy\, laughter\, and unforgettable memories for the entire family! Enjoy games\, the atmosphere of the 150 year old McAllister House\, and more! Local vendors will be present throughout the grounds too. \nSave the date and invite your friends and family to our Harvest Festival – it’s a celebration you won’t want to miss! See you there![/vc_column_text][/vc_column][vc_column width=”1/2″][vc_single_image image=”1990″ img_size=”full” alignment=”center”][/vc_column][/vc_row]
URL:https://www.mcallisterhouse.org/event/harvest-festival/
LOCATION:McAllister House Museum\, 423 N Cascade Avenue\, Colorado Springs\, 80903\, United States
END:VEVENT
END:VCALENDAR